Workbook

Sheet Aufgaben
A1: Arbeitsplan – Aufgaben
A2: Aufgaben mit Verantwortlichen, Fälligkeit, Priorität und Status. Überfällige werden rot, erledigte grau.
B4: Offen | C4: In Arbeit | D4: Wartet | E4: Erledigt | F4: Überfällig
B5: =COUNTIF(H10:H69,"Offen") | C5: =COUNTIF(H10:H69,"In Arbeit") | D5: =COUNTIF(H10:H69,"Wartet") | E5: =COUNTIF(H10:H69,"Erledigt") | F5: =COUNTIFS(F10:F69,"<"&TODAY(),H10:H69,"<>Erledigt")
B7: Aufgaben pro Person: im Blatt „Personen“
A9: Nr. | B9: Aufgabe | C9: Bereich | D9: Verantwortlich | E9: Start | F9: Fällig | G9: Priorität | H9: Status | I9: Fortschritt | J9: Tage übrig | K9: Notiz
A10: 1 | B10: Angebot für Kunde Müller | C10: Vertrieb | D10: Anna | E10: =TODAY()+0 | F10: =TODAY()+5 | G10: Hoch | H10: In Arbeit | I10: 0.5 | J10: =IF(OR(F10="",H10="Erledigt"),"",F10-TODAY())
A11: 2 | B11: Lager inventarisieren | C11: Lager | D11: Ben | E11: =TODAY()+2 | F11: =TODAY()+14 | G11: Mittel | H11: Offen | I11: 0 | J11: =IF(OR(F11="",H11="Erledigt"),"",F11-TODAY())
A12: 3 | B12: Website-Texte prüfen | C12: Marketing | D12: Clara | E12: =TODAY()+-10 | F12: =TODAY()+-2 | G12: Niedrig | H12: Erledigt | I12: 1 | J12: =IF(OR(F12="",H12="Erledigt"),"",F12-TODAY())
A13: 4 | J13: =IF(OR(F13="",H13="Erledigt"),"",F13-TODAY())
A14: 5 | J14: =IF(OR(F14="",H14="Erledigt"),"",F14-TODAY())
A15: 6 | J15: =IF(OR(F15="",H15="Erledigt"),"",F15-TODAY())
A16: 7 | J16: =IF(OR(F16="",H16="Erledigt"),"",F16-TODAY())
A17: 8 | J17: =IF(OR(F17="",H17="Erledigt"),"",F17-TODAY())
A18: 9 | J18: =IF(OR(F18="",H18="Erledigt"),"",F18-TODAY())
A19: 10 | J19: =IF(OR(F19="",H19="Erledigt"),"",F19-TODAY())
A20: 11 | J20: =IF(OR(F20="",H20="Erledigt"),"",F20-TODAY())
A21: 12 | J21: =IF(OR(F21="",H21="Erledigt"),"",F21-TODAY())
A22: 13 | J22: =IF(OR(F22="",H22="Erledigt"),"",F22-TODAY())
A23: 14 | J23: =IF(OR(F23="",H23="Erledigt"),"",F23-TODAY())
A24: 15 | J24: =IF(OR(F24="",H24="Erledigt"),"",F24-TODAY())
... A69: 60 | J69: =IF(OR(F69="",H69="Erledigt"),"",F69-TODAY())

Sheet Personen
A1: Aufgaben pro Person
A2: Namen eintragen (wie in der Spalte „Verantwortlich“) – Excel zählt die Aufgaben.
A4: Name | B4: Offen | C4: In Arbeit | D4: Wartet | E4: Erledigt | F4: Überfällig
A5: Anna | B5: =IF($A5="","",COUNTIFS(Aufgaben!$D$10:$D$69,$A5,Aufgaben!$H$10:$H$69,"Offen")) | C5: =IF($A5="","",COUNTIFS(Aufgaben!$D$10:$D$69,$A5,Aufgaben!$H$10:$H$69,"In Arbeit")) | D5: =IF($A5="","",COUNTIFS(Aufgaben!$D$10:$D$69,$A5,Aufgaben!$H$10:$H$69,"Wartet")) | E5: =IF($A5="","",COUNTIFS(Aufgaben!$D$10:$D$69,$A5,Aufgaben!$H$10:$H$69,"Erledigt")) | F5: =IF($A5="","",COUNTIFS(Aufgaben!$D$10:$D$69,$A5,Aufgaben!$F$10:$F$69,"<"&TODAY(),Aufgaben!$H$10:$H$69,"<>Erledigt"))
A6: Ben | B6: =IF($A6="","",COUNTIFS(Aufgaben!$D$10:$D$69,$A6,Aufgaben!$H$10:$H$69,"Offen")) | C6: =IF($A6="","",COUNTIFS(Aufgaben!$D$10:$D$69,$A6,Aufgaben!$H$10:$H$69,"In Arbeit")) | D6: =IF($A6="","",COUNTIFS(Aufgaben!$D$10:$D$69,$A6,Aufgaben!$H$10:$H$69,"Wartet")) | E6: =IF($A6="","",COUNTIFS(Aufgaben!$D$10:$D$69,$A6,Aufgaben!$H$10:$H$69,"Erledigt")) | F6: =IF($A6="","",COUNTIFS(Aufgaben!$D$10:$D$69,$A6,Aufgaben!$F$10:$F$69,"<"&TODAY(),Aufgaben!$H$10:$H$69,"<>Erledigt"))
A7: Clara | B7: =IF($A7="","",COUNTIFS(Aufgaben!$D$10:$D$69,$A7,Aufgaben!$H$10:$H$69,"Offen")) | C7: =IF($A7="","",COUNTIFS(Aufgaben!$D$10:$D$69,$A7,Aufgaben!$H$10:$H$69,"In Arbeit")) | D7: =IF($A7="","",COUNTIFS(Aufgaben!$D$10:$D$69,$A7,Aufgaben!$H$10:$H$69,"Wartet")) | E7: =IF($A7="","",COUNTIFS(Aufgaben!$D$10:$D$69,$A7,Aufgaben!$H$10:$H$69,"Erledigt")) | F7: =IF($A7="","",COUNTIFS(Aufgaben!$D$10:$D$69,$A7,Aufgaben!$F$10:$F$69,"<"&TODAY(),Aufgaben!$H$10:$H$69,"<>Erledigt"))
B8: =IF($A8="","",COUNTIFS(Aufgaben!$D$10:$D$69,$A8,Aufgaben!$H$10:$H$69,"Offen")) | C8: =IF($A8="","",COUNTIFS(Aufgaben!$D$10:$D$69,$A8,Aufgaben!$H$10:$H$69,"In Arbeit")) | D8: =IF($A8="","",COUNTIFS(Aufgaben!$D$10:$D$69,$A8,Aufgaben!$H$10:$H$69,"Wartet")) | E8: =IF($A8="","",COUNTIFS(Aufgaben!$D$10:$D$69,$A8,Aufgaben!$H$10:$H$69,"Erledigt")) | F8: =IF($A8="","",COUNTIFS(Aufgaben!$D$10:$D$69,$A8,Aufgaben!$F$10:$F$69,"<"&TODAY(),Aufgaben!$H$10:$H$69,"<>Erledigt"))
B9: =IF($A9="","",COUNTIFS(Aufgaben!$D$10:$D$69,$A9,Aufgaben!$H$10:$H$69,"Offen")) | C9: =IF($A9="","",COUNTIFS(Aufgaben!$D$10:$D$69,$A9,Aufgaben!$H$10:$H$69,"In Arbeit")) | D9: =IF($A9="","",COUNTIFS(Aufgaben!$D$10:$D$69,$A9,Aufgaben!$H$10:$H$69,"Wartet")) | E9: =IF($A9="","",COUNTIFS(Aufgaben!$D$10:$D$69,$A9,Aufgaben!$H$10:$H$69,"Erledigt")) | F9: =IF($A9="","",COUNTIFS(Aufgaben!$D$10:$D$69,$A9,Aufgaben!$F$10:$F$69,"<"&TODAY(),Aufgaben!$H$10:$H$69,"<>Erledigt"))
B10: =IF($A10="","",COUNTIFS(Aufgaben!$D$10:$D$69,$A10,Aufgaben!$H$10:$H$69,"Offen")) | C10: =IF($A10="","",COUNTIFS(Aufgaben!$D$10:$D$69,$A10,Aufgaben!$H$10:$H$69,"In Arbeit")) | D10: =IF($A10="","",COUNTIFS(Aufgaben!$D$10:$D$69,$A10,Aufgaben!$H$10:$H$69,"Wartet")) | E10: =IF($A10="","",COUNTIFS(Aufgaben!$D$10:$D$69,$A10,Aufgaben!$H$10:$H$69,"Erledigt")) | F10: =IF($A10="","",COUNTIFS(Aufgaben!$D$10:$D$69,$A10,Aufgaben!$F$10:$F$69,"<"&TODAY(),Aufgaben!$H$10:$H$69,"<>Erledigt"))
B11: =IF($A11="","",COUNTIFS(Aufgaben!$D$10:$D$69,$A11,Aufgaben!$H$10:$H$69,"Offen")) | C11: =IF($A11="","",COUNTIFS(Aufgaben!$D$10:$D$69,$A11,Aufgaben!$H$10:$H$69,"In Arbeit")) | D11: =IF($A11="","",COUNTIFS(Aufgaben!$D$10:$D$69,$A11,Aufgaben!$H$10:$H$69,"Wartet")) | E11: =IF($A11="","",COUNTIFS(Aufgaben!$D$10:$D$69,$A11,Aufgaben!$H$10:$H$69,"Erledigt")) | F11: =IF($A11="","",COUNTIFS(Aufgaben!$D$10:$D$69,$A11,Aufgaben!$F$10:$F$69,"<"&TODAY(),Aufgaben!$H$10:$H$69,"<>Erledigt"))
B12: =IF($A12="","",COUNTIFS(Aufgaben!$D$10:$D$69,$A12,Aufgaben!$H$10:$H$69,"Offen")) | C12: =IF($A12="","",COUNTIFS(Aufgaben!$D$10:$D$69,$A12,Aufgaben!$H$10:$H$69,"In Arbeit")) | D12: =IF($A12="","",COUNTIFS(Aufgaben!$D$10:$D$69,$A12,Aufgaben!$H$10:$H$69,"Wartet")) | E12: =IF($A12="","",COUNTIFS(Aufgaben!$D$10:$D$69,$A12,Aufgaben!$H$10:$H$69,"Erledigt")) | F12: =IF($A12="","",COUNTIFS(Aufgaben!$D$10:$D$69,$A12,Aufgaben!$F$10:$F$69,"<"&TODAY(),Aufgaben!$H$10:$H$69,"<>Erledigt"))
B13: =IF($A13="","",COUNTIFS(Aufgaben!$D$10:$D$69,$A13,Aufgaben!$H$10:$H$69,"Offen")) | C13: =IF($A13="","",COUNTIFS(Aufgaben!$D$10:$D$69,$A13,Aufgaben!$H$10:$H$69,"In Arbeit")) | D13: =IF($A13="","",COUNTIFS(Aufgaben!$D$10:$D$69,$A13,Aufgaben!$H$10:$H$69,"Wartet")) | E13: =IF($A13="","",COUNTIFS(Aufgaben!$D$10:$D$69,$A13,Aufgaben!$H$10:$H$69,"Erledigt")) | F13: =IF($A13="","",COUNTIFS(Aufgaben!$D$10:$D$69,$A13,Aufgaben!$F$10:$F$69,"<"&TODAY(),Aufgaben!$H$10:$H$69,"<>Erledigt"))
B14: =IF($A14="","",COUNTIFS(Aufgaben!$D$10:$D$69,$A14,Aufgaben!$H$10:$H$69,"Offen")) | C14: =IF($A14="","",COUNTIFS(Aufgaben!$D$10:$D$69,$A14,Aufgaben!$H$10:$H$69,"In Arbeit")) | D14: =IF($A14="","",COUNTIFS(Aufgaben!$D$10:$D$69,$A14,Aufgaben!$H$10:$H$69,"Wartet")) | E14: =IF($A14="","",COUNTIFS(Aufgaben!$D$10:$D$69,$A14,Aufgaben!$H$10:$H$69,"Erledigt")) | F14: =IF($A14="","",COUNTIFS(Aufgaben!$D$10:$D$69,$A14,Aufgaben!$F$10:$F$69,"<"&TODAY(),Aufgaben!$H$10:$H$69,"<>Erledigt"))
B15: =IF($A15="","",COUNTIFS(Aufgaben!$D$10:$D$69,$A15,Aufgaben!$H$10:$H$69,"Offen")) | C15: =IF($A15="","",COUNTIFS(Aufgaben!$D$10:$D$69,$A15,Aufgaben!$H$10:$H$69,"In Arbeit")) | D15: =IF($A15="","",COUNTIFS(Aufgaben!$D$10:$D$69,$A15,Aufgaben!$H$10:$H$69,"Wartet")) | E15: =IF($A15="","",COUNTIFS(Aufgaben!$D$10:$D$69,$A15,Aufgaben!$H$10:$H$69,"Erledigt")) | F15: =IF($A15="","",COUNTIFS(Aufgaben!$D$10:$D$69,$A15,Aufgaben!$F$10:$F$69,"<"&TODAY(),Aufgaben!$H$10:$H$69,"<>Erledigt"))
B16: =IF($A16="","",COUNTIFS(Aufgaben!$D$10:$D$69,$A16,Aufgaben!$H$10:$H$69,"Offen")) | C16: =IF($A16="","",COUNTIFS(Aufgaben!$D$10:$D$69,$A16,Aufgaben!$H$10:$H$69,"In Arbeit")) | D16: =IF($A16="","",COUNTIFS(Aufgaben!$D$10:$D$69,$A16,Aufgaben!$H$10:$H$69,"Wartet")) | E16: =IF($A16="","",COUNTIFS(Aufgaben!$D$10:$D$69,$A16,Aufgaben!$H$10:$H$69,"Erledigt")) | F16: =IF($A16="","",COUNTIFS(Aufgaben!$D$10:$D$69,$A16,Aufgaben!$F$10:$F$69,"<"&TODAY(),Aufgaben!$H$10:$H$69,"<>Erledigt"))
B17: =IF($A17="","",COUNTIFS(Aufgaben!$D$10:$D$69,$A17,Aufgaben!$H$10:$H$69,"Offen")) | C17: =IF($A17="","",COUNTIFS(Aufgaben!$D$10:$D$69,$A17,Aufgaben!$H$10:$H$69,"In Arbeit")) | D17: =IF($A17="","",COUNTIFS(Aufgaben!$D$10:$D$69,$A17,Aufgaben!$H$10:$H$69,"Wartet")) | E17: =IF($A17="","",COUNTIFS(Aufgaben!$D$10:$D$69,$A17,Aufgaben!$H$10:$H$69,"Erledigt")) | F17: =IF($A17="","",COUNTIFS(Aufgaben!$D$10:$D$69,$A17,Aufgaben!$F$10:$F$69,"<"&TODAY(),Aufgaben!$H$10:$H$69,"<>Erledigt"))
B18: =IF($A18="","",COUNTIFS(Aufgaben!$D$10:$D$69,$A18,Aufgaben!$H$10:$H$69,"Offen")) | C18: =IF($A18="","",COUNTIFS(Aufgaben!$D$10:$D$69,$A18,Aufgaben!$H$10:$H$69,"In Arbeit")) | D18: =IF($A18="","",COUNTIFS(Aufgaben!$D$10:$D$69,$A18,Aufgaben!$H$10:$H$69,"Wartet")) | E18: =IF($A18="","",COUNTIFS(Aufgaben!$D$10:$D$69,$A18,Aufgaben!$H$10:$H$69,"Erledigt")) | F18: =IF($A18="","",COUNTIFS(Aufgaben!$D$10:$D$69,$A18,Aufgaben!$F$10:$F$69,"<"&TODAY(),Aufgaben!$H$10:$H$69,"<>Erledigt"))
B19: =IF($A19="","",COUNTIFS(Aufgaben!$D$10:$D$69,$A19,Aufgaben!$H$10:$H$69,"Offen")) | C19: =IF($A19="","",COUNTIFS(Aufgaben!$D$10:$D$69,$A19,Aufgaben!$H$10:$H$69,"In Arbeit")) | D19: =IF($A19="","",COUNTIFS(Aufgaben!$D$10:$D$69,$A19,Aufgaben!$H$10:$H$69,"Wartet")) | E19: =IF($A19="","",COUNTIFS(Aufgaben!$D$10:$D$69,$A19,Aufgaben!$H$10:$H$69,"Erledigt")) | F19: =IF($A19="","",COUNTIFS(Aufgaben!$D$10:$D$69,$A19,Aufgaben!$F$10:$F$69,"<"&TODAY(),Aufgaben!$H$10:$H$69,"<>Erledigt"))

Sheet Wochenplan
A1: Arbeitsplan Woche
A2: Montag eintragen – die Daten stellen sich ein. Pro Person und Tag die Aufgabe oder den Einsatzort.
A3: Woche ab: | B3: =DATE(2027,1,4) | D3: ="KW "&_xlfn.ISOWEEKNUM(B3)
A5: Mitarbeiter:in | B5: Montag | C5: Dienstag | D5: Mittwoch | E5: Donnerstag | F5: Freitag | G5: Samstag
B6: =$B$3+0 | C6: =$B$3+1 | D6: =$B$3+2 | E6: =$B$3+3 | F6: =$B$3+4 | G6: =$B$3+5
