Workbook

Sheet Woche
A1: Dienstplan
A2: Gelbe Felder ausfüllen: Datum vom Montag, dann pro Tag Beginn und Ende (z. B. 8:00) – die Stunden rechnet Excel aus. Zeile 1 ist ein Beispiel zum Überschreiben.
A3: Woche ab (Montag): | B3: =DATE(2027,1,4) | E3: Team / Abteilung: | K3: KW: | L3: =_xlfn.ISOWEEKNUM(B3)
A5: Mitarbeiter:in | B5: Montag | D5: Dienstag | F5: Mittwoch | H5: Donnerstag | J5: Freitag | L5: Samstag | N5: Sonntag | P5: Pause je Tag (Min.) | Q5: Stunden (Ist) | R5: Soll | S5: Differenz
B6: =$B$3+0 | D6: =$B$3+1 | F6: =$B$3+2 | H6: =$B$3+3 | J6: =$B$3+4 | L6: =$B$3+5 | N6: =$B$3+6
B7: Beginn | C7: Ende | D7: Beginn | E7: Ende | F7: Beginn | G7: Ende | H7: Beginn | I7: Ende | J7: Beginn | K7: Ende | L7: Beginn | M7: Ende | N7: Beginn | O7: Ende
A8: Anna Beispiel | B8: 0.33333333 | C8: 0.6875 | D8: 0.33333333 | E8: 0.6875 | F8: 0.5 | G8: 0.85416667 | J8: 0.33333333 | K8: 0.6875 | P8: 30 | Q8: =IF(COUNT(B8:O8)=0,"",ROUND((IF(AND(B8<>"",C8<>""),MOD(C8-B8,1),0)+IF(AND(D8<>"",E8<>""),MOD(E8-D8,1),0)+IF(AND(F8<>"",G8<>""),MOD(G8-F8,1),0)+IF(AND(H8<>"",I8<>""),MOD(I8-H8,1),0)+IF(AND(J8<>"",K8<>""),MOD(K8-J8,1),0)+IF(AND(L8<>"",M8<>""),MOD(M8-L8,1),0)+IF(AND(N8<>"",O8<>""),MOD(O8-N8,1),0))*24-N(P8)/60*(AND(B8<>"",C8<>"")+AND(D8<>"",E8<>"")+AND(F8<>"",G8<>"")+AND(H8<>"",I8<>"")+AND(J8<>"",K8<>"")+AND(L8<>"",M8<>"")+AND(N8<>"",O8<>"")),2)) | R8: 32 | S8: =IF(OR(Q8="",R8=""),"",Q8-R8)
Q9: =IF(COUNT(B9:O9)=0,"",ROUND((IF(AND(B9<>"",C9<>""),MOD(C9-B9,1),0)+IF(AND(D9<>"",E9<>""),MOD(E9-D9,1),0)+IF(AND(F9<>"",G9<>""),MOD(G9-F9,1),0)+IF(AND(H9<>"",I9<>""),MOD(I9-H9,1),0)+IF(AND(J9<>"",K9<>""),MOD(K9-J9,1),0)+IF(AND(L9<>"",M9<>""),MOD(M9-L9,1),0)+IF(AND(N9<>"",O9<>""),MOD(O9-N9,1),0))*24-N(P9)/60*(AND(B9<>"",C9<>"")+AND(D9<>"",E9<>"")+AND(F9<>"",G9<>"")+AND(H9<>"",I9<>"")+AND(J9<>"",K9<>"")+AND(L9<>"",M9<>"")+AND(N9<>"",O9<>"")),2)) | S9: =IF(OR(Q9="",R9=""),"",Q9-R9)
Q10: =IF(COUNT(B10:O10)=0,"",ROUND((IF(AND(B10<>"",C10<>""),MOD(C10-B10,1),0)+IF(AND(D10<>"",E10<>""),MOD(E10-D10,1),0)+IF(AND(F10<>"",G10<>""),MOD(G10-F10,1),0)+IF(AND(H10<>"",I10<>""),MOD(I10-H10,1),0)+IF(AND(J10<>"",K10<>""),MOD(K10-J10,1),0)+IF(AND(L10<>"",M10<>""),MOD(M10-L10,1),0)+IF(AND(N10<>"",O10<>""),MOD(O10-N10,1),0))*24-N(P10)/60*(AND(B10<>"",C10<>"")+AND(D10<>"",E10<>"")+AND(F10<>"",G10<>"")+AND(H10<>"",I10<>"")+AND(J10<>"",K10<>"")+AND(L10<>"",M10<>"")+AND(N10<>"",O10<>"")),2)) | S10: =IF(OR(Q10="",R10=""),"",Q10-R10)
Q11: =IF(COUNT(B11:O11)=0,"",ROUND((IF(AND(B11<>"",C11<>""),MOD(C11-B11,1),0)+IF(AND(D11<>"",E11<>""),MOD(E11-D11,1),0)+IF(AND(F11<>"",G11<>""),MOD(G11-F11,1),0)+IF(AND(H11<>"",I11<>""),MOD(I11-H11,1),0)+IF(AND(J11<>"",K11<>""),MOD(K11-J11,1),0)+IF(AND(L11<>"",M11<>""),MOD(M11-L11,1),0)+IF(AND(N11<>"",O11<>""),MOD(O11-N11,1),0))*24-N(P11)/60*(AND(B11<>"",C11<>"")+AND(D11<>"",E11<>"")+AND(F11<>"",G11<>"")+AND(H11<>"",I11<>"")+AND(J11<>"",K11<>"")+AND(L11<>"",M11<>"")+AND(N11<>"",O11<>"")),2)) | S11: =IF(OR(Q11="",R11=""),"",Q11-R11)
Q12: =IF(COUNT(B12:O12)=0,"",ROUND((IF(AND(B12<>"",C12<>""),MOD(C12-B12,1),0)+IF(AND(D12<>"",E12<>""),MOD(E12-D12,1),0)+IF(AND(F12<>"",G12<>""),MOD(G12-F12,1),0)+IF(AND(H12<>"",I12<>""),MOD(I12-H12,1),0)+IF(AND(J12<>"",K12<>""),MOD(K12-J12,1),0)+IF(AND(L12<>"",M12<>""),MOD(M12-L12,1),0)+IF(AND(N12<>"",O12<>""),MOD(O12-N12,1),0))*24-N(P12)/60*(AND(B12<>"",C12<>"")+AND(D12<>"",E12<>"")+AND(F12<>"",G12<>"")+AND(H12<>"",I12<>"")+AND(J12<>"",K12<>"")+AND(L12<>"",M12<>"")+AND(N12<>"",O12<>"")),2)) | S12: =IF(OR(Q12="",R12=""),"",Q12-R12)
Q13: =IF(COUNT(B13:O13)=0,"",ROUND((IF(AND(B13<>"",C13<>""),MOD(C13-B13,1),0)+IF(AND(D13<>"",E13<>""),MOD(E13-D13,1),0)+IF(AND(F13<>"",G13<>""),MOD(G13-F13,1),0)+IF(AND(H13<>"",I13<>""),MOD(I13-H13,1),0)+IF(AND(J13<>"",K13<>""),MOD(K13-J13,1),0)+IF(AND(L13<>"",M13<>""),MOD(M13-L13,1),0)+IF(AND(N13<>"",O13<>""),MOD(O13-N13,1),0))*24-N(P13)/60*(AND(B13<>"",C13<>"")+AND(D13<>"",E13<>"")+AND(F13<>"",G13<>"")+AND(H13<>"",I13<>"")+AND(J13<>"",K13<>"")+AND(L13<>"",M13<>"")+AND(N13<>"",O13<>"")),2)) | S13: =IF(OR(Q13="",R13=""),"",Q13-R13)
Q14: =IF(COUNT(B14:O14)=0,"",ROUND((IF(AND(B14<>"",C14<>""),MOD(C14-B14,1),0)+IF(AND(D14<>"",E14<>""),MOD(E14-D14,1),0)+IF(AND(F14<>"",G14<>""),MOD(G14-F14,1),0)+IF(AND(H14<>"",I14<>""),MOD(I14-H14,1),0)+IF(AND(J14<>"",K14<>""),MOD(K14-J14,1),0)+IF(AND(L14<>"",M14<>""),MOD(M14-L14,1),0)+IF(AND(N14<>"",O14<>""),MOD(O14-N14,1),0))*24-N(P14)/60*(AND(B14<>"",C14<>"")+AND(D14<>"",E14<>"")+AND(F14<>"",G14<>"")+AND(H14<>"",I14<>"")+AND(J14<>"",K14<>"")+AND(L14<>"",M14<>"")+AND(N14<>"",O14<>"")),2)) | S14: =IF(OR(Q14="",R14=""),"",Q14-R14)
Q15: =IF(COUNT(B15:O15)=0,"",ROUND((IF(AND(B15<>"",C15<>""),MOD(C15-B15,1),0)+IF(AND(D15<>"",E15<>""),MOD(E15-D15,1),0)+IF(AND(F15<>"",G15<>""),MOD(G15-F15,1),0)+IF(AND(H15<>"",I15<>""),MOD(I15-H15,1),0)+IF(AND(J15<>"",K15<>""),MOD(K15-J15,1),0)+IF(AND(L15<>"",M15<>""),MOD(M15-L15,1),0)+IF(AND(N15<>"",O15<>""),MOD(O15-N15,1),0))*24-N(P15)/60*(AND(B15<>"",C15<>"")+AND(D15<>"",E15<>"")+AND(F15<>"",G15<>"")+AND(H15<>"",I15<>"")+AND(J15<>"",K15<>"")+AND(L15<>"",M15<>"")+AND(N15<>"",O15<>"")),2)) | S15: =IF(OR(Q15="",R15=""),"",Q15-R15)
Q16: =IF(COUNT(B16:O16)=0,"",ROUND((IF(AND(B16<>"",C16<>""),MOD(C16-B16,1),0)+IF(AND(D16<>"",E16<>""),MOD(E16-D16,1),0)+IF(AND(F16<>"",G16<>""),MOD(G16-F16,1),0)+IF(AND(H16<>"",I16<>""),MOD(I16-H16,1),0)+IF(AND(J16<>"",K16<>""),MOD(K16-J16,1),0)+IF(AND(L16<>"",M16<>""),MOD(M16-L16,1),0)+IF(AND(N16<>"",O16<>""),MOD(O16-N16,1),0))*24-N(P16)/60*(AND(B16<>"",C16<>"")+AND(D16<>"",E16<>"")+AND(F16<>"",G16<>"")+AND(H16<>"",I16<>"")+AND(J16<>"",K16<>"")+AND(L16<>"",M16<>"")+AND(N16<>"",O16<>"")),2)) | S16: =IF(OR(Q16="",R16=""),"",Q16-R16)
Q17: =IF(COUNT(B17:O17)=0,"",ROUND((IF(AND(B17<>"",C17<>""),MOD(C17-B17,1),0)+IF(AND(D17<>"",E17<>""),MOD(E17-D17,1),0)+IF(AND(F17<>"",G17<>""),MOD(G17-F17,1),0)+IF(AND(H17<>"",I17<>""),MOD(I17-H17,1),0)+IF(AND(J17<>"",K17<>""),MOD(K17-J17,1),0)+IF(AND(L17<>"",M17<>""),MOD(M17-L17,1),0)+IF(AND(N17<>"",O17<>""),MOD(O17-N17,1),0))*24-N(P17)/60*(AND(B17<>"",C17<>"")+AND(D17<>"",E17<>"")+AND(F17<>"",G17<>"")+AND(H17<>"",I17<>"")+AND(J17<>"",K17<>"")+AND(L17<>"",M17<>"")+AND(N17<>"",O17<>"")),2)) | S17: =IF(OR(Q17="",R17=""),"",Q17-R17)
Q18: =IF(COUNT(B18:O18)=0,"",ROUND((IF(AND(B18<>"",C18<>""),MOD(C18-B18,1),0)+IF(AND(D18<>"",E18<>""),MOD(E18-D18,1),0)+IF(AND(F18<>"",G18<>""),MOD(G18-F18,1),0)+IF(AND(H18<>"",I18<>""),MOD(I18-H18,1),0)+IF(AND(J18<>"",K18<>""),MOD(K18-J18,1),0)+IF(AND(L18<>"",M18<>""),MOD(M18-L18,1),0)+IF(AND(N18<>"",O18<>""),MOD(O18-N18,1),0))*24-N(P18)/60*(AND(B18<>"",C18<>"")+AND(D18<>"",E18<>"")+AND(F18<>"",G18<>"")+AND(H18<>"",I18<>"")+AND(J18<>"",K18<>"")+AND(L18<>"",M18<>"")+AND(N18<>"",O18<>"")),2)) | S18: =IF(OR(Q18="",R18=""),"",Q18-R18)
Q19: =IF(COUNT(B19:O19)=0,"",ROUND((IF(AND(B19<>"",C19<>""),MOD(C19-B19,1),0)+IF(AND(D19<>"",E19<>""),MOD(E19-D19,1),0)+IF(AND(F19<>"",G19<>""),MOD(G19-F19,1),0)+IF(AND(H19<>"",I19<>""),MOD(I19-H19,1),0)+IF(AND(J19<>"",K19<>""),MOD(K19-J19,1),0)+IF(AND(L19<>"",M19<>""),MOD(M19-L19,1),0)+IF(AND(N19<>"",O19<>""),MOD(O19-N19,1),0))*24-N(P19)/60*(AND(B19<>"",C19<>"")+AND(D19<>"",E19<>"")+AND(F19<>"",G19<>"")+AND(H19<>"",I19<>"")+AND(J19<>"",K19<>"")+AND(L19<>"",M19<>"")+AND(N19<>"",O19<>"")),2)) | S19: =IF(OR(Q19="",R19=""),"",Q19-R19)
A20: Summe Team | Q20: =SUM(Q8:Q19) | R20: =SUM(R8:R19)
A22: Nachtdienst über Mitternacht (z. B. 22:00–6:00) wird richtig gezählt. Pause = Minuten pro gearbeitetem Tag. Soll = vereinbarte Wochenstunden.

Sheet Schichten
A1: Schichten & Kürzel
A2: Kürzel für den Monatsplan – Zeiten und Pausen gelten für die Stundensumme.
A4: Kürzel | B4: Bedeutung | C4: Beginn | D4: Ende | E4: Pause (Min.) | F4: Stunden
A5: F | B5: Frühschicht | C5: 0.25 | D5: 0.58333333 | E5: 30 | F5: =IF(OR(C5="",D5=""),0,ROUND(MOD(D5-C5,1)*24-E5/60,2))
A6: S | B6: Spätschicht | C6: 0.58333333 | D6: 0.91666667 | E6: 30 | F6: =IF(OR(C6="",D6=""),0,ROUND(MOD(D6-C6,1)*24-E6/60,2))
A7: N | B7: Nachtschicht | C7: 0.91666667 | D7: 0.25 | E7: 30 | F7: =IF(OR(C7="",D7=""),0,ROUND(MOD(D7-C7,1)*24-E7/60,2))
A8: T | B8: Tagdienst | C8: 0.33333333 | D8: 0.6875 | E8: 30 | F8: =IF(OR(C8="",D8=""),0,ROUND(MOD(D8-C8,1)*24-E8/60,2))
A9: U | B9: Urlaub | E9: 0 | F9: =IF(OR(C9="",D9=""),0,ROUND(MOD(D9-C9,1)*24-E9/60,2))
A10: K | B10: Krank | E10: 0 | F10: =IF(OR(C10="",D10=""),0,ROUND(MOD(D10-C10,1)*24-E10/60,2))
A11: X | B11: Frei | E11: 0 | F11: =IF(OR(C11="",D11=""),0,ROUND(MOD(D11-C11,1)*24-E11/60,2))
A13: Gelbe Felder kannst du ändern: Zeiten und Pausen passen sich in allen Blättern an.
A14: Eigene Kürzel? Einfach Kürzel und Bedeutung überschreiben (z. B. „B“ für Bereitschaft).

Sheet Monat
A1: Dienstplan Monat
A2: Jahr und Monat oben eintragen – Datum und Wochentage stellen sich selbst ein. Kürzel per Auswahlmenü.
A3: Jahr: | B3: 2027 | E3: Monat (1–12): | H3: 1 | K3: =INDEX({"Januar","Februar","März","April","Mai","Juni","Juli","August","September","Oktober","November","Dezember"},H3)&" "&B3 | R3: Abteilung:
A5: Name | B5: =IF(MONTH(DATE($B$3,$H$3,1)+0)=$H$3,DATE($B$3,$H$3,1)+0,"") | C5: =IF(MONTH(DATE($B$3,$H$3,1)+1)=$H$3,DATE($B$3,$H$3,1)+1,"") | D5: =IF(MONTH(DATE($B$3,$H$3,1)+2)=$H$3,DATE($B$3,$H$3,1)+2,"") | E5: =IF(MONTH(DATE($B$3,$H$3,1)+3)=$H$3,DATE($B$3,$H$3,1)+3,"") | F5: =IF(MONTH(DATE($B$3,$H$3,1)+4)=$H$3,DATE($B$3,$H$3,1)+4,"") | G5: =IF(MONTH(DATE($B$3,$H$3,1)+5)=$H$3,DATE($B$3,$H$3,1)+5,"") | H5: =IF(MONTH(DATE($B$3,$H$3,1)+6)=$H$3,DATE($B$3,$H$3,1)+6,"") | I5: =IF(MONTH(DATE($B$3,$H$3,1)+7)=$H$3,DATE($B$3,$H$3,1)+7,"") | J5: =IF(MONTH(DATE($B$3,$H$3,1)+8)=$H$3,DATE($B$3,$H$3,1)+8,"") | K5: =IF(MONTH(DATE($B$3,$H$3,1)+9)=$H$3,DATE($B$3,$H$3,1)+9,"") | L5: =IF(MONTH(DATE($B$3,$H$3,1)+10)=$H$3,DATE($B$3,$H$3,1)+10,"") | M5: =IF(MONTH(DATE($B$3,$H$3,1)+11)=$H$3,DATE($B$3,$H$3,1)+11,"") | N5: =IF(MONTH(DATE($B$3,$H$3,1)+12)=$H$3,DATE($B$3,$H$3,1)+12,"") | O5: =IF(MONTH(DATE($B$3,$H$3,1)+13)=$H$3,DATE($B$3,$H$3,1)+13,"") | P5: =IF(MONTH(DATE($B$3,$H$3,1)+14)=$H$3,DATE($B$3,$H$3,1)+14,"") | Q5: =IF(MONTH(DATE($B$3,$H$3,1)+15)=$H$3,DATE($B$3,$H$3,1)+15,"") | R5: =IF(MONTH(DATE($B$3,$H$3,1)+16)=$H$3,DATE($B$3,$H$3,1)+16,"") | S5: =IF(MONTH(DATE($B$3,$H$3,1)+17)=$H$3,DATE($B$3,$H$3,1)+17,"") | T5: =IF(MONTH(DATE($B$3,$H$3,1)+18)=$H$3,DATE($B$3,$H$3,1)+18,"") | U5: =IF(MONTH(DATE($B$3,$H$3,1)+19)=$H$3,DATE($B$3,$H$3,1)+19,"") | V5: =IF(MONTH(DATE($B$3,$H$3,1)+20)=$H$3,DATE($B$3,$H$3,1)+20,"") | W5: =IF(MONTH(DATE($B$3,$H$3,1)+21)=$H$3,DATE($B$3,$H$3,1)+21,"") | X5: =IF(MONTH(DATE($B$3,$H$3,1)+22)=$H$3,DATE($B$3,$H$3,1)+22,"") | Y5: =IF(MONTH(DATE($B$3,$H$3,1)+23)=$H$3,DATE($B$3,$H$3,1)+23,"") | Z5: =IF(MONTH(DATE($B$3,$H$3,1)+24)=$H$3,DATE($B$3,$H$3,1)+24,"") | AA5: =IF(MONTH(DATE($B$3,$H$3,1)+25)=$H$3,DATE($B$3,$H$3,1)+25,"") | AB5: =IF(MONTH(DATE($B$3,$H$3,1)+26)=$H$3,DATE($B$3,$H$3,1)+26,"") | AC5: =IF(MONTH(DATE($B$3,$H$3,1)+27)=$H$3,DATE($B$3,$H$3,1)+27,"") | AD5: =IF(MONTH(DATE($B$3,$H$3,1)+28)=$H$3,DATE($B$3,$H$3,1)+28,"") | AE5: =IF(MONTH(DATE($B$3,$H$3,1)+29)=$H$3,DATE($B$3,$H$3,1)+29,"") | AF5: =IF(MONTH(DATE($B$3,$H$3,1)+30)=$H$3,DATE($B$3,$H$3,1)+30,"") | AG5: Stunden | AH5: F | AI5: S | AJ5: N | AK5: U | AL5: K
B6: =IF(B5="","",CHOOSE(WEEKDAY(B5,2),"Mo","Di","Mi","Do","Fr","Sa","So")) | C6: =IF(C5="","",CHOOSE(WEEKDAY(C5,2),"Mo","Di","Mi","Do","Fr","Sa","So")) | D6: =IF(D5="","",CHOOSE(WEEKDAY(D5,2),"Mo","Di","Mi","Do","Fr","Sa","So")) | E6: =IF(E5="","",CHOOSE(WEEKDAY(E5,2),"Mo","Di","Mi","Do","Fr","Sa","So")) | F6: =IF(F5="","",CHOOSE(WEEKDAY(F5,2),"Mo","Di","Mi","Do","Fr","Sa","So")) | G6: =IF(G5="","",CHOOSE(WEEKDAY(G5,2),"Mo","Di","Mi","Do","Fr","Sa","So")) | H6: =IF(H5="","",CHOOSE(WEEKDAY(H5,2),"Mo","Di","Mi","Do","Fr","Sa","So")) | I6: =IF(I5="","",CHOOSE(WEEKDAY(I5,2),"Mo","Di","Mi","Do","Fr","Sa","So")) | ... AF6: =IF(AF5="","",CHOOSE(WEEKDAY(AF5,2),"Mo","Di","Mi","Do","Fr","Sa","So"))
A7: Anna Beispiel | B7: T | C7: T | D7: T | E7: X | F7: T | G7: X | H7: X | I7: U | J7: U | K7: U | L7: U | M7: U | N7: X | O7: X | P7: S | Q7: S | R7: S | S7: S | T7: S | U7: X | V7: X | AG7: =SUMPRODUCT(COUNTIF(B7:AF7,'Schichten'!$A$5:$A$11)*'Schichten'!$F$5:$F$11) | AH7: =COUNTIF(B7:AF7,"F") | AI7: =COUNTIF(B7:AF7,"S") | AJ7: =COUNTIF(B7:AF7,"N") | AK7: =COUNTIF(B7:AF7,"U") | AL7: =COUNTIF(B7:AF7,"K")
AG8: =SUMPRODUCT(COUNTIF(B8:AF8,'Schichten'!$A$5:$A$11)*'Schichten'!$F$5:$F$11) | AH8: =COUNTIF(B8:AF8,"F") | AI8: =COUNTIF(B8:AF8,"S") | AJ8: =COUNTIF(B8:AF8,"N") | AK8: =COUNTIF(B8:AF8,"U") | AL8: =COUNTIF(B8:AF8,"K")
AG9: =SUMPRODUCT(COUNTIF(B9:AF9,'Schichten'!$A$5:$A$11)*'Schichten'!$F$5:$F$11) | AH9: =COUNTIF(B9:AF9,"F") | AI9: =COUNTIF(B9:AF9,"S") | AJ9: =COUNTIF(B9:AF9,"N") | AK9: =COUNTIF(B9:AF9,"U") | AL9: =COUNTIF(B9:AF9,"K")
AG10: =SUMPRODUCT(COUNTIF(B10:AF10,'Schichten'!$A$5:$A$11)*'Schichten'!$F$5:$F$11) | AH10: =COUNTIF(B10:AF10,"F") | AI10: =COUNTIF(B10:AF10,"S") | AJ10: =COUNTIF(B10:AF10,"N") | AK10: =COUNTIF(B10:AF10,"U") | AL10: =COUNTIF(B10:AF10,"K")
AG11: =SUMPRODUCT(COUNTIF(B11:AF11,'Schichten'!$A$5:$A$11)*'Schichten'!$F$5:$F$11) | AH11: =COUNTIF(B11:AF11,"F") | AI11: =COUNTIF(B11:AF11,"S") | AJ11: =COUNTIF(B11:AF11,"N") | AK11: =COUNTIF(B11:AF11,"U") | AL11: =COUNTIF(B11:AF11,"K")
AG12: =SUMPRODUCT(COUNTIF(B12:AF12,'Schichten'!$A$5:$A$11)*'Schichten'!$F$5:$F$11) | AH12: =COUNTIF(B12:AF12,"F") | AI12: =COUNTIF(B12:AF12,"S") | AJ12: =COUNTIF(B12:AF12,"N") | AK12: =COUNTIF(B12:AF12,"U") | AL12: =COUNTIF(B12:AF12,"K")
AG13: =SUMPRODUCT(COUNTIF(B13:AF13,'Schichten'!$A$5:$A$11)*'Schichten'!$F$5:$F$11) | AH13: =COUNTIF(B13:AF13,"F") | AI13: =COUNTIF(B13:AF13,"S") | AJ13: =COUNTIF(B13:AF13,"N") | AK13: =COUNTIF(B13:AF13,"U") | AL13: =COUNTIF(B13:AF13,"K")
AG14: =SUMPRODUCT(COUNTIF(B14:AF14,'Schichten'!$A$5:$A$11)*'Schichten'!$F$5:$F$11) | AH14: =COUNTIF(B14:AF14,"F") | AI14: =COUNTIF(B14:AF14,"S") | AJ14: =COUNTIF(B14:AF14,"N") | AK14: =COUNTIF(B14:AF14,"U") | AL14: =COUNTIF(B14:AF14,"K")
AG15: =SUMPRODUCT(COUNTIF(B15:AF15,'Schichten'!$A$5:$A$11)*'Schichten'!$F$5:$F$11) | AH15: =COUNTIF(B15:AF15,"F") | AI15: =COUNTIF(B15:AF15,"S") | AJ15: =COUNTIF(B15:AF15,"N") | AK15: =COUNTIF(B15:AF15,"U") | AL15: =COUNTIF(B15:AF15,"K")
AG16: =SUMPRODUCT(COUNTIF(B16:AF16,'Schichten'!$A$5:$A$11)*'Schichten'!$F$5:$F$11) | AH16: =COUNTIF(B16:AF16,"F") | AI16: =COUNTIF(B16:AF16,"S") | AJ16: =COUNTIF(B16:AF16,"N") | AK16: =COUNTIF(B16:AF16,"U") | AL16: =COUNTIF(B16:AF16,"K")
AG17: =SUMPRODUCT(COUNTIF(B17:AF17,'Schichten'!$A$5:$A$11)*'Schichten'!$F$5:$F$11) | AH17: =COUNTIF(B17:AF17,"F") | AI17: =COUNTIF(B17:AF17,"S") | AJ17: =COUNTIF(B17:AF17,"N") | AK17: =COUNTIF(B17:AF17,"U") | AL17: =COUNTIF(B17:AF17,"K")
AG18: =SUMPRODUCT(COUNTIF(B18:AF18,'Schichten'!$A$5:$A$11)*'Schichten'!$F$5:$F$11) | AH18: =COUNTIF(B18:AF18,"F") | AI18: =COUNTIF(B18:AF18,"S") | AJ18: =COUNTIF(B18:AF18,"N") | AK18: =COUNTIF(B18:AF18,"U") | AL18: =COUNTIF(B18:AF18,"K")
AG19: =SUMPRODUCT(COUNTIF(B19:AF19,'Schichten'!$A$5:$A$11)*'Schichten'!$F$5:$F$11) | AH19: =COUNTIF(B19:AF19,"F") | AI19: =COUNTIF(B19:AF19,"S") | AJ19: =COUNTIF(B19:AF19,"N") | AK19: =COUNTIF(B19:AF19,"U") | AL19: =COUNTIF(B19:AF19,"K")
... AG21: =SUMPRODUCT(COUNTIF(B21:AF21,'Schichten'!$A$5:$A$11)*'Schichten'!$F$5:$F$11) | AH21: =COUNTIF(B21:AF21,"F") | AI21: =COUNTIF(B21:AF21,"S") | AJ21: =COUNTIF(B21:AF21,"N") | AK21: =COUNTIF(B21:AF21,"U") | AL21: =COUNTIF(B21:AF21,"K")
A23: Legende: F Früh · S Spät · N Nacht · T Tag · U Urlaub · K Krank · X Frei – Zeiten im Blatt „Schichten“. Grau = Tag gibt es in diesem Monat nicht, orange = Wochenende.
