Workbook

Sheet Prüfungen
A1: Meine Prüfungen
A2: Fächer und Prüfungstermine eintragen – Countdown, Themen-Fortschritt und Lernzeit rechnet Excel aus.
A4: Fach | B4: Prüfung am | C4: Noch Tage | D4: Themen | E4: erledigt | F4: Fortschritt | G4: Lernzeit geplant (Min.) | H4: Lernzeit erledigt (Min.) | I4: Note
A5: Mathe | B5: =DATE(2027,3,15) | C5: =IF(B5="","",B5-TODAY()) | D5: =IF(A5="","",COUNTIF(Themen!$A$5:$A$204,A5)) | E5: =IF(A5="","",COUNTIFS(Themen!$A$5:$A$204,A5,Themen!$C$5:$C$204,"✓")) | F5: =IF(OR(A5="",N(D5)=0),"",E5/D5) | G5: =IF(A5="","",SUMIF(Lernplan!$C$6:$C$89,A5,Lernplan!$E$6:$E$89)) | H5: =IF(A5="","",SUMIFS(Lernplan!$E$6:$E$89,Lernplan!$C$6:$C$89,A5,Lernplan!$F$6:$F$89,"✓"))
A6: Deutsch | B6: =DATE(2027,3,18) | C6: =IF(B6="","",B6-TODAY()) | D6: =IF(A6="","",COUNTIF(Themen!$A$5:$A$204,A6)) | E6: =IF(A6="","",COUNTIFS(Themen!$A$5:$A$204,A6,Themen!$C$5:$C$204,"✓")) | F6: =IF(OR(A6="",N(D6)=0),"",E6/D6) | G6: =IF(A6="","",SUMIF(Lernplan!$C$6:$C$89,A6,Lernplan!$E$6:$E$89)) | H6: =IF(A6="","",SUMIFS(Lernplan!$E$6:$E$89,Lernplan!$C$6:$C$89,A6,Lernplan!$F$6:$F$89,"✓"))
A7: Englisch | B7: =DATE(2027,3,22) | C7: =IF(B7="","",B7-TODAY()) | D7: =IF(A7="","",COUNTIF(Themen!$A$5:$A$204,A7)) | E7: =IF(A7="","",COUNTIFS(Themen!$A$5:$A$204,A7,Themen!$C$5:$C$204,"✓")) | F7: =IF(OR(A7="",N(D7)=0),"",E7/D7) | G7: =IF(A7="","",SUMIF(Lernplan!$C$6:$C$89,A7,Lernplan!$E$6:$E$89)) | H7: =IF(A7="","",SUMIFS(Lernplan!$E$6:$E$89,Lernplan!$C$6:$C$89,A7,Lernplan!$F$6:$F$89,"✓"))
A8: Biologie | B8: =DATE(2027,3,25) | C8: =IF(B8="","",B8-TODAY()) | D8: =IF(A8="","",COUNTIF(Themen!$A$5:$A$204,A8)) | E8: =IF(A8="","",COUNTIFS(Themen!$A$5:$A$204,A8,Themen!$C$5:$C$204,"✓")) | F8: =IF(OR(A8="",N(D8)=0),"",E8/D8) | G8: =IF(A8="","",SUMIF(Lernplan!$C$6:$C$89,A8,Lernplan!$E$6:$E$89)) | H8: =IF(A8="","",SUMIFS(Lernplan!$E$6:$E$89,Lernplan!$C$6:$C$89,A8,Lernplan!$F$6:$F$89,"✓"))
C9: =IF(B9="","",B9-TODAY()) | D9: =IF(A9="","",COUNTIF(Themen!$A$5:$A$204,A9)) | E9: =IF(A9="","",COUNTIFS(Themen!$A$5:$A$204,A9,Themen!$C$5:$C$204,"✓")) | F9: =IF(OR(A9="",N(D9)=0),"",E9/D9) | G9: =IF(A9="","",SUMIF(Lernplan!$C$6:$C$89,A9,Lernplan!$E$6:$E$89)) | H9: =IF(A9="","",SUMIFS(Lernplan!$E$6:$E$89,Lernplan!$C$6:$C$89,A9,Lernplan!$F$6:$F$89,"✓"))
C10: =IF(B10="","",B10-TODAY()) | D10: =IF(A10="","",COUNTIF(Themen!$A$5:$A$204,A10)) | E10: =IF(A10="","",COUNTIFS(Themen!$A$5:$A$204,A10,Themen!$C$5:$C$204,"✓")) | F10: =IF(OR(A10="",N(D10)=0),"",E10/D10) | G10: =IF(A10="","",SUMIF(Lernplan!$C$6:$C$89,A10,Lernplan!$E$6:$E$89)) | H10: =IF(A10="","",SUMIFS(Lernplan!$E$6:$E$89,Lernplan!$C$6:$C$89,A10,Lernplan!$F$6:$F$89,"✓"))
C11: =IF(B11="","",B11-TODAY()) | D11: =IF(A11="","",COUNTIF(Themen!$A$5:$A$204,A11)) | E11: =IF(A11="","",COUNTIFS(Themen!$A$5:$A$204,A11,Themen!$C$5:$C$204,"✓")) | F11: =IF(OR(A11="",N(D11)=0),"",E11/D11) | G11: =IF(A11="","",SUMIF(Lernplan!$C$6:$C$89,A11,Lernplan!$E$6:$E$89)) | H11: =IF(A11="","",SUMIFS(Lernplan!$E$6:$E$89,Lernplan!$C$6:$C$89,A11,Lernplan!$F$6:$F$89,"✓"))
C12: =IF(B12="","",B12-TODAY()) | D12: =IF(A12="","",COUNTIF(Themen!$A$5:$A$204,A12)) | E12: =IF(A12="","",COUNTIFS(Themen!$A$5:$A$204,A12,Themen!$C$5:$C$204,"✓")) | F12: =IF(OR(A12="",N(D12)=0),"",E12/D12) | G12: =IF(A12="","",SUMIF(Lernplan!$C$6:$C$89,A12,Lernplan!$E$6:$E$89)) | H12: =IF(A12="","",SUMIFS(Lernplan!$E$6:$E$89,Lernplan!$C$6:$C$89,A12,Lernplan!$F$6:$F$89,"✓"))
C13: =IF(B13="","",B13-TODAY()) | D13: =IF(A13="","",COUNTIF(Themen!$A$5:$A$204,A13)) | E13: =IF(A13="","",COUNTIFS(Themen!$A$5:$A$204,A13,Themen!$C$5:$C$204,"✓")) | F13: =IF(OR(A13="",N(D13)=0),"",E13/D13) | G13: =IF(A13="","",SUMIF(Lernplan!$C$6:$C$89,A13,Lernplan!$E$6:$E$89)) | H13: =IF(A13="","",SUMIFS(Lernplan!$E$6:$E$89,Lernplan!$C$6:$C$89,A13,Lernplan!$F$6:$F$89,"✓"))
C14: =IF(B14="","",B14-TODAY()) | D14: =IF(A14="","",COUNTIF(Themen!$A$5:$A$204,A14)) | E14: =IF(A14="","",COUNTIFS(Themen!$A$5:$A$204,A14,Themen!$C$5:$C$204,"✓")) | F14: =IF(OR(A14="",N(D14)=0),"",E14/D14) | G14: =IF(A14="","",SUMIF(Lernplan!$C$6:$C$89,A14,Lernplan!$E$6:$E$89)) | H14: =IF(A14="","",SUMIFS(Lernplan!$E$6:$E$89,Lernplan!$C$6:$C$89,A14,Lernplan!$F$6:$F$89,"✓"))
C15: =IF(B15="","",B15-TODAY()) | D15: =IF(A15="","",COUNTIF(Themen!$A$5:$A$204,A15)) | E15: =IF(A15="","",COUNTIFS(Themen!$A$5:$A$204,A15,Themen!$C$5:$C$204,"✓")) | F15: =IF(OR(A15="",N(D15)=0),"",E15/D15) | G15: =IF(A15="","",SUMIF(Lernplan!$C$6:$C$89,A15,Lernplan!$E$6:$E$89)) | H15: =IF(A15="","",SUMIFS(Lernplan!$E$6:$E$89,Lernplan!$C$6:$C$89,A15,Lernplan!$F$6:$F$89,"✓"))
C16: =IF(B16="","",B16-TODAY()) | D16: =IF(A16="","",COUNTIF(Themen!$A$5:$A$204,A16)) | E16: =IF(A16="","",COUNTIFS(Themen!$A$5:$A$204,A16,Themen!$C$5:$C$204,"✓")) | F16: =IF(OR(A16="",N(D16)=0),"",E16/D16) | G16: =IF(A16="","",SUMIF(Lernplan!$C$6:$C$89,A16,Lernplan!$E$6:$E$89)) | H16: =IF(A16="","",SUMIFS(Lernplan!$E$6:$E$89,Lernplan!$C$6:$C$89,A16,Lernplan!$F$6:$F$89,"✓"))
A18: Rot = noch höchstens 7 Tage, gelb = höchstens 14 Tage. Themen im Blatt „Themen“ abhaken, Lerneinheiten im Blatt „Lernplan“ planen.

Sheet Lernplan
A1: Lernplan
A2: Startdatum eintragen – 6 Wochen mit zwei Lerneinheiten pro Tag. Prüfungstage werden rot markiert.
A3: Start: | B3: =DATE(2027,2,1)
A5: Datum | B5: Tag | C5: Fach | D5: Thema / Aufgabe | E5: Minuten | F5: Erledigt | G5: Prüfung an diesem Tag
A6: =$B$3+0 | B6: =A6 | C6: Mathe | D6: Ableitungen wiederholen | E6: 45 | F6: ✓ | G6: =IFERROR(INDEX(Prüfungen!$A$5:$A$16,MATCH(A6,Prüfungen!$B$5:$B$16,0)),"")
A7: =$B$3+0 | B7: =A7 | G7: =IFERROR(INDEX(Prüfungen!$A$5:$A$16,MATCH(A7,Prüfungen!$B$5:$B$16,0)),"")
A8: =$B$3+1 | B8: =A8 | G8: =IFERROR(INDEX(Prüfungen!$A$5:$A$16,MATCH(A8,Prüfungen!$B$5:$B$16,0)),"")
A9: =$B$3+1 | B9: =A9 | G9: =IFERROR(INDEX(Prüfungen!$A$5:$A$16,MATCH(A9,Prüfungen!$B$5:$B$16,0)),"")
A10: =$B$3+2 | B10: =A10 | G10: =IFERROR(INDEX(Prüfungen!$A$5:$A$16,MATCH(A10,Prüfungen!$B$5:$B$16,0)),"")
A11: =$B$3+2 | B11: =A11 | G11: =IFERROR(INDEX(Prüfungen!$A$5:$A$16,MATCH(A11,Prüfungen!$B$5:$B$16,0)),"")
A12: =$B$3+3 | B12: =A12 | G12: =IFERROR(INDEX(Prüfungen!$A$5:$A$16,MATCH(A12,Prüfungen!$B$5:$B$16,0)),"")
A13: =$B$3+3 | B13: =A13 | G13: =IFERROR(INDEX(Prüfungen!$A$5:$A$16,MATCH(A13,Prüfungen!$B$5:$B$16,0)),"")
A14: =$B$3+4 | B14: =A14 | G14: =IFERROR(INDEX(Prüfungen!$A$5:$A$16,MATCH(A14,Prüfungen!$B$5:$B$16,0)),"")
A15: =$B$3+4 | B15: =A15 | G15: =IFERROR(INDEX(Prüfungen!$A$5:$A$16,MATCH(A15,Prüfungen!$B$5:$B$16,0)),"")
A16: =$B$3+5 | B16: =A16 | G16: =IFERROR(INDEX(Prüfungen!$A$5:$A$16,MATCH(A16,Prüfungen!$B$5:$B$16,0)),"")
A17: =$B$3+5 | B17: =A17 | G17: =IFERROR(INDEX(Prüfungen!$A$5:$A$16,MATCH(A17,Prüfungen!$B$5:$B$16,0)),"")
A18: =$B$3+6 | B18: =A18 | G18: =IFERROR(INDEX(Prüfungen!$A$5:$A$16,MATCH(A18,Prüfungen!$B$5:$B$16,0)),"")
A19: =$B$3+6 | B19: =A19 | G19: =IFERROR(INDEX(Prüfungen!$A$5:$A$16,MATCH(A19,Prüfungen!$B$5:$B$16,0)),"")
A20: =$B$3+7 | B20: =A20 | G20: =IFERROR(INDEX(Prüfungen!$A$5:$A$16,MATCH(A20,Prüfungen!$B$5:$B$16,0)),"")
A21: =$B$3+7 | B21: =A21 | G21: =IFERROR(INDEX(Prüfungen!$A$5:$A$16,MATCH(A21,Prüfungen!$B$5:$B$16,0)),"")
A22: =$B$3+8 | B22: =A22 | G22: =IFERROR(INDEX(Prüfungen!$A$5:$A$16,MATCH(A22,Prüfungen!$B$5:$B$16,0)),"")
A23: =$B$3+8 | B23: =A23 | G23: =IFERROR(INDEX(Prüfungen!$A$5:$A$16,MATCH(A23,Prüfungen!$B$5:$B$16,0)),"")
A24: =$B$3+9 | B24: =A24 | G24: =IFERROR(INDEX(Prüfungen!$A$5:$A$16,MATCH(A24,Prüfungen!$B$5:$B$16,0)),"")
A25: =$B$3+9 | B25: =A25 | G25: =IFERROR(INDEX(Prüfungen!$A$5:$A$16,MATCH(A25,Prüfungen!$B$5:$B$16,0)),"")
A26: =$B$3+10 | B26: =A26 | G26: =IFERROR(INDEX(Prüfungen!$A$5:$A$16,MATCH(A26,Prüfungen!$B$5:$B$16,0)),"")
A27: =$B$3+10 | B27: =A27 | G27: =IFERROR(INDEX(Prüfungen!$A$5:$A$16,MATCH(A27,Prüfungen!$B$5:$B$16,0)),"")
A28: =$B$3+11 | B28: =A28 | G28: =IFERROR(INDEX(Prüfungen!$A$5:$A$16,MATCH(A28,Prüfungen!$B$5:$B$16,0)),"")
A29: =$B$3+11 | B29: =A29 | G29: =IFERROR(INDEX(Prüfungen!$A$5:$A$16,MATCH(A29,Prüfungen!$B$5:$B$16,0)),"")
A30: =$B$3+12 | B30: =A30 | G30: =IFERROR(INDEX(Prüfungen!$A$5:$A$16,MATCH(A30,Prüfungen!$B$5:$B$16,0)),"")
A31: =$B$3+12 | B31: =A31 | G31: =IFERROR(INDEX(Prüfungen!$A$5:$A$16,MATCH(A31,Prüfungen!$B$5:$B$16,0)),"")
A32: =$B$3+13 | B32: =A32 | G32: =IFERROR(INDEX(Prüfungen!$A$5:$A$16,MATCH(A32,Prüfungen!$B$5:$B$16,0)),"")
A33: =$B$3+13 | B33: =A33 | G33: =IFERROR(INDEX(Prüfungen!$A$5:$A$16,MATCH(A33,Prüfungen!$B$5:$B$16,0)),"")
A34: =$B$3+14 | B34: =A34 | G34: =IFERROR(INDEX(Prüfungen!$A$5:$A$16,MATCH(A34,Prüfungen!$B$5:$B$16,0)),"")
A35: =$B$3+14 | B35: =A35 | G35: =IFERROR(INDEX(Prüfungen!$A$5:$A$16,MATCH(A35,Prüfungen!$B$5:$B$16,0)),"")
A36: =$B$3+15 | B36: =A36 | G36: =IFERROR(INDEX(Prüfungen!$A$5:$A$16,MATCH(A36,Prüfungen!$B$5:$B$16,0)),"")
A37: =$B$3+15 | B37: =A37 | G37: =IFERROR(INDEX(Prüfungen!$A$5:$A$16,MATCH(A37,Prüfungen!$B$5:$B$16,0)),"")
A38: =$B$3+16 | B38: =A38 | G38: =IFERROR(INDEX(Prüfungen!$A$5:$A$16,MATCH(A38,Prüfungen!$B$5:$B$16,0)),"")
A39: =$B$3+16 | B39: =A39 | G39: =IFERROR(INDEX(Prüfungen!$A$5:$A$16,MATCH(A39,Prüfungen!$B$5:$B$16,0)),"")
A40: =$B$3+17 | B40: =A40 | G40: =IFERROR(INDEX(Prüfungen!$A$5:$A$16,MATCH(A40,Prüfungen!$B$5:$B$16,0)),"")
A41: =$B$3+17 | B41: =A41 | G41: =IFERROR(INDEX(Prüfungen!$A$5:$A$16,MATCH(A41,Prüfungen!$B$5:$B$16,0)),"")
...

Sheet Themen
A1: Themen
A2: Pro Fach alle Themen untereinander – erledigt mit ✓ abhaken.
A4: Fach | B4: Thema | C4: Erledigt | D4: Notiz
A5: Mathe | B5: Ableitungen | C5: ✓
A6: Mathe | B6: Integralrechnung
A7: Mathe | B7: Stochastik
A8: Deutsch | B8: Gedichtanalyse | C8: ✓
A9: Deutsch | B9: Erörterung
A10: Englisch | B10: Vokabeln Unit 5
A11: Biologie | B11: Genetik
